BEGIN:VCALENDAR
VERSION:2.0
PRODID:-//hacksw/handcal//NONSGML v1.0//EN
BEGIN:VEVENT
UID:e1b90c8c8ca3427640615de6400f2cde
DTSTAMP:20260422T082619Z

DTSTART:20180120T190000
DTEND:20180120T190000
SUMMARY:Κοπή πίτας της Δημοτικής Κίνησης "Ηλίου-πόλις, Αθνρώπινη πόλη"
DESCRIPTION:ΠΡΟΣΚΛΗΣΗ

Η Δημοτική κίνηση "Ηλίου-πόλις, Ανθρώπινη πόλη"
και ο επικεφαλής της Χ. ΚΟΚΟΤΙΝΗΣ,
σας προσκαλούν στην κοπή πίτας της Κίνησης,
το Σάββατο 20 Ιανουαρίου και ώρα 19:00 
στο Δημοτικό Αλσος.
LOCATION:
END:VEVENT

END:VCALENDAR
