BEGIN:VCALENDAR
VERSION:2.0
PRODID:-//hacksw/handcal//NONSGML v1.0//EN
BEGIN:VEVENT
UID:f4ea42d217cf26b0f5f52db09712c264
DTSTAMP:20260420T234810Z

DTSTART:20180119T100000
DTEND:20180119T100000
SUMMARY:Eπιβράβευση 62 Καλλιτεχνών 
DESCRIPTION:Η Ένωση Καλλιτεχνών & Λογοτεχνών Ηλιούπολης
σε συνεργασία με τον ΔΗΜΟ ΗΛΙΟΥΠΟΛΗΣ
διοργανώνουν Εκδήλωση για την επιβράβευση των 62 Καλλιτεχνών που Διακρίθηκαν στον Διαγωνισμό Ζωγραφικής που οργανώθηκε, τον Μαρ-2017, από τον
Φιλολογικό Σύλλογο «Παρνασσός»
 
Η Εκδήλωση θα πραγματοποιηθεί στο Μουσείο Εθνικής Αντίστασης Ηλιούπολης
(Σοφ. Βενιζέλου & Μαρίνου Αντύπα)
Διάρκεια Εκδήλωσης από 19 έως και 20-Ιαν-2018
 
Εγκαίνια : Σάββατο, 20-Ιαν-2018, ώρα 10:00

LOCATION:
END:VEVENT

END:VCALENDAR
