BEGIN:VCALENDAR
VERSION:2.0
PRODID:-//hacksw/handcal//NONSGML v1.0//EN
BEGIN:VEVENT
UID:d49f0391f730e684943b808837c37653
DTSTAMP:20260420T173829Z

DTSTART:20180121T200000
DTEND:20180121T200000
SUMMARY:ΠΡΟΒΟΛΗ ΤΑΙΝΙΑΣ:ΠΕΡΙΠΛΑΝΩΜΕΝΟΙ του Πέτερ Γκρένλουντ
DESCRIPTION:Η ΚΙΝΗΜΑΤΟΓΡΑΦΙΚΗ ΛΕΣΧΗ ΗΛΙΟΥΠΟΛΗΣ   
ΣΑΣ ΠΡΟΣΚΑΛΕΙ ΤΗΝ ΕΚΔΗΛΩΣΗ ΤΗΣ
ΣΕ ΠΡΩΤΗ ΠΡΟΒΟΛΗ ΣΤΗΝ ΕΛΛΑΔΑ ΔΥΟ ΤΑΙΝΙΕΣ ΤΟΥ ΣΥΓΧΡΟΝΟΥ ΣΟΥΗΔΙΚΟΥ ΚΙΝΗΜΑΤΟΓΡΑΦΟΥ
ΚΥΡΙΑΚΗ  21/01/2018 

ΠΕΡΙΠΛΑΝΩΜΕΝΟΙ (TJUVHEDER / DRIFTERS)
του Πέτερ Γκρένλουντ (ΣΟΥΗΔΙΑ, 2015, έγχρωμη, 92΄)

Θα ακολουθήσει συζήτηση με εισηγητή τον Ρόμπυ Εκσιέλ (κριτικό κινηματογράφου).
•	Σε συνεργασία με την Πρεσβεία της Σουηδίας, το Σουηδικό Ινστιτούτο Αθηνών (SIA), το Σουηδικό Ινστιτούτο Kινηματογράφου (SFI), το Σουηδικό Ινστιτούτο  (SI)και την Ομοσπονδία Κινηματογραφικών Λεσχών Ελλάδας (ΟΚΛΕ).
ΕΙΣΟΔΟΣ ΕΛΕΥΘΕΡΗ
•	στο ΜΟΥΣΕΙΟ ΕΘΝΙΚΗΣ ΑΝΤΙΣΤΑΣΗΣ 
(Μαρ. Αντύπα 134 και Σοφ. Βενιζέλου, λεωφ. 237 Άνω Ηλιούπολη από στάση ΔΑΦΝΗ του Μετρό)



LOCATION:
END:VEVENT

END:VCALENDAR
