BEGIN:VCALENDAR
VERSION:2.0
PRODID:-//hacksw/handcal//NONSGML v1.0//EN
BEGIN:VEVENT
UID:ae95e23144fc26f273de15c50e355f74
DTSTAMP:20260421T021047Z

DTSTART:20180117T180000
DTEND:20180117T180000
SUMMARY:Παιδαγωγική ημερίδα με θέμα «Διαφοροποιημένη διδασκαλία – Τεχνικές - Προτάσεις» 
DESCRIPTION:2ο ΔΗΜΟΤΙΚΟ ΣΧΟΛΕΙΟ ΗΛΙΟΥΠΟΛΗΣ 
ΠΡΟΣΚΛΗΣΗ – ΚΑΛΕΣΜΑ

Ο Σύλλογος διδασκόντων του 2ου Δημοτικού Σχολείου Ηλιούπολης διοργανώνει παιδαγωγική ημερίδα με θέμα «Διαφοροποιημένη διδασκαλία – Τεχνικές - Προτάσεις» την Τετάρτη 17/01/2018 και ώρα 18:00 μ.μ. στην αίθουσα εκδηλώσεων του σχολείου μας.
Εισηγητής της ημερίδας θα είναι ο Δρ. Ειδικής Παιδαγωγικής & Ψυχολογίας, ΕΚΠΑ, Ηλίας Ανδρογιάννης.
Η παρουσία και η ενεργή συμμετοχή σας θα βοηθήσει σημαντικά στην κοινή προσπάθεια όλων μας που έχει στόχο την στήριξη των μαθητών μας στην εκπαιδευτική διαδικασία και στις ιδιαίτερες ανάγκες – μαθησιακές δυσκολίες που αντιμετωπίζουν.
 Ο Διευθυντής	
Πανταζόπουλος Δημήτριος
Ο Σύλλογος Διδασκόντων

 

LOCATION:
END:VEVENT

END:VCALENDAR
