BEGIN:VCALENDAR
VERSION:2.0
PRODID:-//hacksw/handcal//NONSGML v1.0//EN
BEGIN:VEVENT
UID:fac4fa9d74f7afe15ed942c692946f31
DTSTAMP:20260420T202713Z

DTSTART:20180114T003000
DTEND:20180114T003000
SUMMARY:ΚΟΠΗ ΠΡΩΤΟΧΡΟΝΙΑΤΙΚΗΣ ΠΙΤΑΣ
DESCRIPTION:Το Διοικητικό Συμβούλιο του Συλλόγου Ηπειρωτών  Ηλιούπολης καλεί τα μέλη και τους φίλους  στην κοπή της πρωτοχρονιάτικης πίτας που θα πραγματοποιηθεί την Κυριακή 14 Ιανουαρίου 2018 στο «ΝΕΟ ΚΑΣΤΡΟ» (Ειδομένης και Τριπόλεως 3, Υμηττός. Τηλ: 210 9737465, έναντι Γυμναστικής Ακαδημίας) με πλούσιο καλλιτεχνικό πρόγραμμα και με την παρουσία χορευτικών τμημάτων του Συλλόγου. 
Προσκλήσεις μπορείτε να προμηθευτείτε από τα γραφεία του Συλλόγου μας.
Ώρα προσέλευσης 12:30μ.μ.

LOCATION:
END:VEVENT

END:VCALENDAR
