BEGIN:VCALENDAR
VERSION:2.0
PRODID:-//hacksw/handcal//NONSGML v1.0//EN
BEGIN:VEVENT
UID:0b674aa704b593583cac9df6a67adc00
DTSTAMP:20260419T145600Z

DTSTART:20180114T180000
DTEND:20180204T180000
SUMMARY:Ο Καραγκιόζης Δάσκαλος
DESCRIPTION:Ο Πολιτιστικός Σύλλογος Αγίου Κωνσταντίνου σας καλεί στην Παράσταση 'Ο Καραγκιόζης Δάσκαλος'  σε σκηνοθεσία Βάσως Φλώρου που θα πραγματοποιηθεί την Κυριακή 14 Ιανουαρίου και την Κυριακή 4 Φεβρουαρίου  στις 6μμ στο Θέατρο του Δημαρχείου Ηλιούπολης.
Είσοδος ελεύθερη.
LOCATION:Λεωφ. Σοφοκλή Βενιζέλου 114, Ηλιούπολη 163 42, Ελλάδα
END:VEVENT

END:VCALENDAR
