BEGIN:VCALENDAR
VERSION:2.0
PRODID:-//hacksw/handcal//NONSGML v1.0//EN
BEGIN:VEVENT
UID:3e6daaeb4ef9ae64577a5f44f1c83080
DTSTAMP:20260420T174427Z

DTSTART:20180114T200000
DTEND:20180114T200000
SUMMARY:Προβολή ταινίας ΤΟ ΚΟΡΙΤΣΙ ΠΟΥ ΜΟΥ ΕΣΩΣΕ ΤΗ ΖΩΗ 
DESCRIPTION:H ΚΙΝΗΜΑΤΟΓΡΑΦΙΚΗ ΛΕΣΧΗ ΗΛΙΟΥΠΟΛΗΣ
Σας προσκαλεί 


στην εκδήλωση  
ΣΕ ΠΡΩΤΗ ΠΡΟΒΟΛΗ ΣΤΗΝ ΕΛΛΑΔΑ
ΔΥΟ ΤΑΙΝΙΕΣ ΤΟΥ ΣΥΓΧΡΟΝΟΥ ΣΟΥΗΔΙΚΟΥ ΚΙΝΗΜΑΤΟΓΡΑΦΟΥ
Η πρώτη θα προβληθεί την ΚΥΡΙΑΚΗ  14/01/2018 
ΤΟ ΚΟΡΙΤΣΙ ΠΟΥ ΜΟΥ ΕΣΩΣΕ ΤΗ ΖΩΗ (FLICKAN SOM RӒDDADE MITT LIV)
του Χόγκιρ Χιρόρι  (ΣΟΥΗΔΙΑ, 2016, έγχρωμη, 79΄)

Θα ακολουθήσει συζήτηση με εισηγητή τον Λευτέρη Αδαμίδη (κριτικό κινηματογράφου).

•	Σε συνεργασία με την Πρεσβεία της Σουηδίας, το Σουηδικό Ινστιτούτο Αθηνών (SIA), το Σουηδικό Ινστιτούτο Kινηματογράφου (SFI), το Σουηδικό Ινστιτούτο  (SI) και την Ομοσπονδία Κινηματογραφικών Λεσχών Ελλάδας (ΟΚΛΕ).

•	ΚΥΡΙΑΚΗ 14/1 ΣΤΙΣ 8:00 μ.μ.
•	ΣΤΟ ΜΟΥΣΕΙΟ ΕΘΝΙΚΗΣ ΑΝΤΙΣΤΑΣΗΣ
•	(Μαρ. Αντύπα 134 και Σοφ. Βενιζέλου 100, Ηλιούπολη, 
•	Τηλ.: 2109941199, 2109914732, 6945405825,                                       E-mail: info@klh.gr,
•	Ιστοσελίδα: www.klh.gr)









LOCATION:
END:VEVENT

END:VCALENDAR
