BEGIN:VCALENDAR
VERSION:2.0
PRODID:-//hacksw/handcal//NONSGML v1.0//EN
BEGIN:VEVENT
UID:2c8fcca9b088753ee3788e96e3dc102b
DTSTAMP:20260420T162452Z

DTSTART:20180105T221700
DTEND:20180107T170000
SUMMARY:Διεθνές Κύπελο Ρυθμικής Γυμναστικής “Helioupolis Cup”
DESCRIPTION:Στην Ηλιούπολη θα διεξαχθεί για 11η συνεχόμενη φορά το Διεθνές Κύπελο Ρυθμικής Γυμναστικής “Helioupolis Cup”.

Το πρωί του Σαββάτου 06 Iανουαρίου 2018, στο Α ΄ κλειστό γυμναστήριο του Δήμου Ηλιούπολης, ανοίγει η αυλαία του 11ου Διεθνούς Κυπέλου Ρυθμικής Γυμναστικής .
Τον αγώνα διοργανώνει, το τμήμα Ρυθμικής Γυμναστικής του Γ. Σ. Ηλιούπολης με την υποστήριξη της Ελληνικής Γυμναστικής Ομοσπονδίας και της ΑΕΣΓΑ .
Στον αγώνα θα πάρουν μέρος 180 αθλήτριες ομάδων από την Βουλγαρία,την Ουκρανία,την Αίγυπτο, το Βέλγιο, την Ιταλία, την Ρωσία, την Δανία,την Κύπρο,την Ελβετία,τα Σκόπια,τo Ισραήλ και την Ελλάδα.
Οι αθλήτριες θα αγωνισθούν στις κατηγορίες των Babies, Hopes, Minis, Pre-Juniors , Juniors, Seniors και Ανσάμπλ Juniors και Pre-Juniors .
Την Παρασκευή, 05 Ιανουαρίου, θα γίνει η επίσημη προπόνηση των ξένων αποστολών.

Ελεύθερη είσοδος για το κοινό .

Πρόγραμμα Αγώνα

Σάββατο 06 Ιανουαρίου 10.00 – 22.00
Κυριακή 07 Ιανουαρίου 09.30 – 17.00
LOCATION:
END:VEVENT

END:VCALENDAR
