BEGIN:VCALENDAR
VERSION:2.0
PRODID:-//hacksw/handcal//NONSGML v1.0//EN
BEGIN:VEVENT
UID:0d4785c87e953cf99e47a61647290501
DTSTAMP:20260421T033201Z

DTSTART:20171216T210000
DTEND:20171216T210000
SUMMARY:Χριστουγεννιάτικο πάρτυ-Δημοτική  Κίνηση “ΗΛΙΟΥ-πόλις, Ανθρώπινη πόλη”
DESCRIPTION:Χριστουγεννιάτικο πάρτυ


Φίλοι και φίλες,

Η Δημοτική μας Κίνηση “ΗΛΙΟΥ-πόλις, Ανθρώπινη πόλη”, διοργανώνει Χριστουγεννιάτικο πάρτυ, το Σάββατο 16 Δεκεμβρίου στις 9:00 το βράδυ, στον…κατάλληλα διαμορφωμένο χώρο στα γραφεία μας, Ηρώς Κωνσταντοπούλου & Ηρακλείτου 1.

Σας περιμένουμε να τα πούμε, να χορέψουμε και να τραγουδήσουμε με κρασάκι, τσιπουράκι αλλά και σπιτικά μεζεδάκια.


Στις μουσικές επιλογές ο Δημήτρης Κυπριωτάκης!

LOCATION:Ηρακλείτου και Ηρώς Κωνσταντοπούλου, Ηλιούπολη 163 41, Ελλάδα
END:VEVENT

END:VCALENDAR
