BEGIN:VCALENDAR
VERSION:2.0
PRODID:-//hacksw/handcal//NONSGML v1.0//EN
BEGIN:VEVENT
UID:55b67314399fc1ad7bbfbe7a2a3d86d0
DTSTAMP:20260422T082517Z

DTSTART:20171207T190000
DTEND:20171207T190000
SUMMARY:Ταυτότητα φύλου : Νομική αναγνώριση και προοπτικές
DESCRIPTION:Πέμπτη 7/12 στις 19:00

Εκδήλωση-Συζήτηση
Ταυτότητα φύλου :
Νομική αναγνώριση και προοπτικές

Ομιλητές :
Αννα Απέργη
μέλος του Σωματείου Υποστήριξης Διεμφυλικών
Βαγγέλης Σκούφας
μέλος του Τμήματος Δικαιωμάτων του ΣΥΡΙΖΑ

Συντονίζει η Πένυ Πλατανίτη

Διοργάνωση :
Συνεργοί με την Ηλιούπολη

Ηρακλείτου 1 & Ηρώς Κωνσταντοπούλου
χώρος Δημοτικής Κϊνησης "ΗΛΙΟΥ-πόλις, ανθρώπινη πόλη"

LOCATION:
END:VEVENT

END:VCALENDAR
