BEGIN:VCALENDAR
VERSION:2.0
PRODID:-//hacksw/handcal//NONSGML v1.0//EN
BEGIN:VEVENT
UID:42d99e1dde76562b8b6764357fb5dce1
DTSTAMP:20260422T083619Z

DTSTART:20171206T190000
DTEND:20171206T190000
SUMMARY:Ταυτότητα φύλου : Νομική αναγνώριση και προοπτικές
DESCRIPTION:Πέμπτη 7/12 στις 19:00
Εκδήλωση-Συζήτηση

Ταυτότητα φύλου :
Νομική αναγνώριση και προοπτικές

Ομιλητές :
Αννα Απέργη
μέλος του Σωματείου Υποστήριξης Διεμφυλικών
Βαγγέλης Σκούφας
μέλος του Τμήματος Δικαιωμάτων του ΣΥΡΙΖΑ

Συντονίζει η Πένυ Πλατανίτη

Διοργάνωση :
Συνεργοί με την Ηλιούπολη

στο χώρο της Δημοτικής Κίνησης 
"ΗΛΙΟΥ-πόλις, ανθρώπινη πόλη"
Ηρακλείτου 1 & Ηρώς Κωνσταντοπούλου

LOCATION:
END:VEVENT

END:VCALENDAR
