BEGIN:VCALENDAR
VERSION:2.0
PRODID:-//hacksw/handcal//NONSGML v1.0//EN
BEGIN:VEVENT
UID:e01853600742388e66f9ab7e584dacac
DTSTAMP:20260420T181610Z

DTSTART:20171202T110000
DTEND:20171202T110000
SUMMARY:" ΔΙΚΤΥΟ ΑΛΛΗΛΕΓΓΥΗΣ ΗΛΙΟΥ-πόλις" Χριστουγεννιάτικο Bazaar
DESCRIPTION:Φίλοι & φίλες,

όπως κάθε χρόνο έτσι και φέτος το " ΔΙΚΤΥΟ ΑΛΛΗΛΕΓΓΥΗΣ ΗΛΙΟΥ-πόλις" διοργανώνει Χριστουγεννιάτικο bazaar στις 2 & 3 Δεκεμβρίου στα γραφεία της Δημοτικής μας Κίνησης,

Ηρώς Κωνσταντοπούλου & Ηρακλείτου 1
Ώρες Λειτουργίας  11:00 - 21:00

Αγοράζουμε τα χριστουγενιάτικα δώρα μας,  διακοσμητικά , κοσμήματα, φυσικά καλυντικά, υγιεινές τροφές και πολλά άλλα,  στηρίζοντας άνεργους συμπολίτες μας.

 Επίσης καλοδεχούμενη θα είναι κάθε προσφορά σας σε τρόφιμα για το ΔΙΚΤΥΟ ΑΛΛΗΛΕΓΓΥΗΣ

Σας περιμένουμε

LOCATION:
END:VEVENT

END:VCALENDAR
