BEGIN:VCALENDAR
VERSION:2.0
PRODID:-//hacksw/handcal//NONSGML v1.0//EN
BEGIN:VEVENT
UID:43db68b84132b46f55254fbd4ec4ccf2
DTSTAMP:20260419T123402Z

DTSTART:20171112T113000
DTEND:20171112T113000
SUMMARY:Παιδική εκδήλωση στο Απρόβλεπτο
DESCRIPTION:Το βιβλιοπωλείο Απρόβλεπτο και οι εκδόσεις Μεταίχμιο προσκαλούν τους μικρούς τους φίλους 
σε εκδήλωση με αφορμή το νέο βιβλίο της Ιουλίας Κωστοπούλου "Ένα βιβλίο ταξιδεύει", 
την Κυριακή 12 Νοεμβρίου 2017, στις 11:30 π.μ., στο χώρο του βιβλιοπωλείου.

Για παιδιά από 5 ετών

Στο σχολείο, οι μέρες κυλούν μονότονα για τον μικρό μας ήρωα. Ώσπου η δασκάλα ζητάει από το κάθε παιδί να φέρει το αγαπημένο του βιβλίο. Ο ήρωάς μας από όσο θυμάται δεν έχει ούτε ένα βιβλίο στο δωμάτιό του. Θα μπορέσει άραγε μέσα σε ένα απόγευμα να βρει ένα βιβλίο;



Βιβλιοπωλείο Απρόβλεπτο, Ρήγα Φεραίου 25, Ηλιούπολη, τηλ. 2109940110
LOCATION:
END:VEVENT

END:VCALENDAR
