BEGIN:VCALENDAR
VERSION:2.0
PRODID:-//hacksw/handcal//NONSGML v1.0//EN
BEGIN:VEVENT
UID:2f9ca659af332327c992f9730f0f9cd1
DTSTAMP:20260421T033144Z

DTSTART:20171101T170000
DTEND:20171101T170000
SUMMARY:Το ATTILIO κουβεντιάζει/Συζήτηση "Με αφορμή ένα κύκλο" στα πλαίσια της ομώνυμης έκθεσης
DESCRIPTION:Συζήτηση με αφορμή την έκθεση που παρουσιάζεται στο ATTILIO Οικεία Τέχνη έως τις 11/11/17 και έχει τον τίτλο "Με αφορμή έναν κύκλο".
Θα αντικρύσουμε τον κύκλο μέσα απο τη ματιά ανθρώπων που προέρχονται απο διαφορετικούς χώρους και τον προσεγγίζουν μέσα απο την δική τους προσωπική οπτική.
Θα συντονίζει ο ιστορικός Βαγγέλης Καραμανωλάκης,θα μιλήσουν η Βασιλική Παπαγιαννακοπούλου, μαθηματικός και η αρχιτέκτονας Ελένη Πατρώνη. Στη συζήτηση θα συμμετέχουν και  καλλιτέχνες που έργα τους παρουσιάζονται στην έκθεση.
LOCATION:
END:VEVENT

END:VCALENDAR
