BEGIN:VCALENDAR
VERSION:2.0
PRODID:-//hacksw/handcal//NONSGML v1.0//EN
BEGIN:VEVENT
UID:1baabbe5e7a2adc0c63ed222055d8246
DTSTAMP:20260422T082024Z

DTSTART:20171030T190000
DTEND:20171030T190000
SUMMARY:Η άνοδος της ακροδεξιάς και το μέλλον της Ευρώπης
DESCRIPTION:ΕΚΔΗΛΩΣΗ - ΣΥΖΗΤΗΣΗ

Η άνοδος της ακροδεξιάς και το μέλλον της Ευρώπης

ΟΜΙΛΗΤΕΣ :
Κώστας Δουζίνας
Κοσμήτορας της Σχολής των Ανθρωπιστικών Σπουδών
και Τεχνών του Birkbeck College, βουλευτής ΣΥΡΙΖΑ

Κωστής Παπαϊωάννου
Εκπαιδευτικός, τ. Πρόεδρος της Εθνικής Επιτροπής
για τα Δικαιώματα του Ανθρώπου

Αποστόλης Στασινόπουλος
Συνεργοί με την Ηλιούπολη

Δευτέρα 30 Οκτωβρίου 2017, 19:00 μμ
Ηλιούπολη, Μουσείο Εθνικής Αντίστασης

Διοργάνωση :
Συνεργοί
με την Ηλιούπολη
LOCATION:
END:VEVENT

END:VCALENDAR
