BEGIN:VCALENDAR
VERSION:2.0
PRODID:-//hacksw/handcal//NONSGML v1.0//EN
BEGIN:VEVENT
UID:31d3213b35ce9fc3cf130842ebdb8c1c
DTSTAMP:20260419T154906Z

DTSTART:20171112T073000
DTEND:20171112T073000
SUMMARY:Επίσκεψη στο Μουσείο Ν. Μπελογιάννη στην Αμαλιάδα
DESCRIPTION:Η Δημοτική Κίνηση "ΗΛΙΟΥ-πόλις, ανθρώπινη πόλη" πραγματοποιεί μονοήμερη εκδρομή στην Αμαλιάδα στο Μουσείο Νίκου Μπελογιάννη, την Κυριακή 12 Νοεμβρίου.
Η αναχώρηση θα γίνει  το πρωί στις 7:30 από το Δημαρχείο Ηλιούπολης (Λεωφ. Σοφοκλή Βελιζέλου και Πρωτόπαπα).

Ξενάγηση στο Μουσείο (12:00 ανά 25 άτομα).
Φαγητό στην Κουρούτα (θα έχει γίνει προσυνεννόηση για να μην υπάρξει καθυστέρηση).
Επιστροφή περίπου 8:30 το βράδυ

Τιμή συμμετοχής 15 Ευρώ

Δηλώσεις συμμετοχής
Βαγγελιώ Παρασκευά 6977692592
Λούλα Χαρατσή 6944634370

Συμμετοχές μέχρι την Πέμπτη 9/11/2017


LOCATION:
END:VEVENT

END:VCALENDAR
