BEGIN:VCALENDAR
VERSION:2.0
PRODID:-//hacksw/handcal//NONSGML v1.0//EN
BEGIN:VEVENT
UID:4bedadbf718631abbd97d0176d61dd61
DTSTAMP:20260421T033012Z

DTSTART:20171025T200000
DTEND:20171025T200000
SUMMARY:ΤΟ ΕΠΟΣ ΤΟΥ 40
DESCRIPTION:
LOCATION:Leoforos Sofokli Venizelou ke Protopapa, Ilioupoli 163 42, Ελλάδα
END:VEVENT

END:VCALENDAR
