BEGIN:VCALENDAR
VERSION:2.0
PRODID:-//hacksw/handcal//NONSGML v1.0//EN
BEGIN:VEVENT
UID:3c70a5b5461132de25ac1bcf336d3283
DTSTAMP:20260421T032816Z

DTSTART:20171009T000000
DTEND:20171027T000000
SUMMARY:Με αφορμή έναν κύκλο
DESCRIPTION:Ξεκινά στο ATTILIO Οικεία Τέχνη, η έκθεση "Με αφορμή έναν κύκλο",με έργα σε πηλό,μέταλλο και εικαστικό κόσμημα.
18 καλλιτέχνες συναντούν μέσα απο τις βιτρίνες, το βλέμμα του περαστικού.Μεσα απο προσωπικές διαδρομές-μεταβάσεις,απο την ιδέα στην πραγμάτωση, μέσα απο διαφορετικές προσεγγίσεις,αποκαλύπτουν κάποια απο τα μυριάδες γοητευτικά πρόσωπα του κύκλου.
Εγκαίνια 9/10/17 απο τις 7μμ
LOCATION:
END:VEVENT

END:VCALENDAR
