BEGIN:VCALENDAR
VERSION:2.0
PRODID:-//hacksw/handcal//NONSGML v1.0//EN
BEGIN:VEVENT
UID:68986e1283bf7931fb9129cecfb69adc
DTSTAMP:20260421T042508Z

DTSTART:20170929T203000
DTEND:20170929T223000
SUMMARY:Η Ροζίτα Σπινάσα στο Απρόβλεπτο
DESCRIPTION:Το βιβλιοπωλείο Απρόβλεπτο και οι εκδόσεις Κέδρος σας προσκαλούν στην παρουσίαση του βιβλίου της Ροζίτας Σπινάσα στόμαστομαστό την Παρασκευή 29 Σεπτεμβρίου 2017 στις 8:30 μ.μ.
Για το βιβλίο θα μιλήσει η Νίκη Ανδρικοπούλου, ποιήτρια- ηθοποιός

Τα ράφια που γεμίζουν με κρύους δίσκους, τα καμαράκια όπου πας για να κλάψεις με την ησυχία σου,
η παρένθετη μητρότητα και ο πόνος της απώλειας, η εισβολή περιστεριών σε μια πολυκατοικία του κέντρου, οι κρυφές βλέψεις των ενοίκων του πρώτου ορόφου, οι ανόσιες πράξεις των κατοίκων ενός χωριού, τα μυστικά που κρύβονται στα υπόγεια, η οδυνηρή κατάδυση στο οικογενειακό ασυνείδητο, η αμαρτία που φέρνει τη λύτρωση και τα γράμματα που συνεχίζουν να έρχονται.
Αυτά είναι τα σκοτεινά πεδία όπου ξετυλίγονται οι ιστορίες του βιβλίου, οι χαρακτήρες των οποίων, αν και δρουν στα τυφλά, σπάνε τελικά το καλούπι που μέχρι τότε περνούσαν για εαυτό τους. Όταν στο τέλος φανερώνεται η αλήθεια, τη μεγαλύτερη έκπληξη αποτελούν οι ίδιοι οι ήρωες, στις πραγματικές τους πλέον διαστάσεις.
Βιβλιοπωλείο Απρόβλεπτο, Ρήγα Φεραίου 25, Ηλιούπολη, τηλ. 2109940110
LOCATION:Ρήγα Φεραίου 25, Ηλιούπολη 163 43, Ελλάδα
END:VEVENT

END:VCALENDAR
