BEGIN:VCALENDAR
VERSION:2.0
PRODID:-//hacksw/handcal//NONSGML v1.0//EN
BEGIN:VEVENT
UID:b297279f7469cab1682b9ffd2ab9d926
DTSTAMP:20260421T021204Z

DTSTART:20151002T193000
DTEND:20151002T193000
SUMMARY:Σύλλογος Λευκαδίων: Νέος Κύκλος Πολιτιστικών Δράσεων & Χορευτικών Τμημάτων
DESCRIPTION:Πρόσκληση για την "Εορταστική Έναρξη του Νέου Κύκλου Πολιτιστικών Δράσεων και των Τμημάτων Παραδοσιακών Χορών" 
που θα πραγματοποιηθεί την Παρασκευή 2 Οκτωβρίου 2015, στις 7:30 μμ, στο " Λευκαδίτικο Σπίτι, όπου στεγάζεται ο Σύλλογος Λευκαδίων Ηλιούπολης, στη συμβολή των οδών Εθνάρχου Μακαρίου, Αθηνοδώρου & Ίωνος.
Έναν φιλόξενο χώρο, τον οποίο οι Λευκαδίτες της Ηλιούπολης διεκδίκησαν στη δεκαετία του 1990 και τον έκτισαν, εξασφαλίζοντας έτσι την ιδιόκτητη στέγη τους στην περιοχή της Κάτω Ηλιούπολης, εκεί που οι πρώτοι Λευκαδίτες εγκαταστάθηκαν τις δεκαετίες του 1940 και 1950.  
Μέσα από την πλούσια πολιτιστική του πορεία, ο Σύλλογος Λευκαδίων Ηλιούπολης & Γύρω Δήμων κρατά ζωντανή την παράδοση του νησιού, φέρνοντας κοντά τους Λευκαδίτες όλης της Αττικής και τους φίλους της Λευκάδας.
Προς αυτήν την κατεύθυνση, αγωνιζόμαστε όλα τα μέλη του Συλλόγου και έχοντας πολύτιμο συμπαραστάτη τον συμπατριώτη μας δάσκαλο των Παραδοσιακών Χορών, Γιάννη Γαντζία, υπηρετούμε με μεράκι και συνέπεια την ελληνική παράδοση, μέσα από χορούς, ακούσματα και έθιμα που διασώζονται μέσα στον χρόνο.
Επιστέγασμα των προσπαθειών όλων μας είναι η επιτυχημένη συμμετοχή της Χορευτικής Ομάδας  του Συλλόγου Λευκαδίων Ηλιούπολης & Γύρω Δήμων στο Διεθνές Φεστιβάλ Φολκλόρ της Λευκάδας και η παρουσία σε καταξιωμένες πολιτιστικές και χορευτικές συναντήσεις. 

LOCATION:Ίωνος, Ηλιούπολη 163 41, Ελλάδα
END:VEVENT

END:VCALENDAR
