BEGIN:VCALENDAR
VERSION:2.0
PRODID:-//hacksw/handcal//NONSGML v1.0//EN
BEGIN:VEVENT
UID:a441064a80b3f5b81852c7214d479489
DTSTAMP:20260421T032000Z

DTSTART:20170920T000000
DTEND:20170924T000000
SUMMARY:ΓΙΟΡΤΗ ΜΕΛΙΟΥ ΚΑΙ ΤΣΙΚΟΥΔΙΑΣ
DESCRIPTION:Ο Δήμος Ηλιούπολης και ο Σύλλογος Κρητών Ηλιούπολης πραγματοποιούν γιορτή μελιού και τσικουδιάς 20-24 Σεπτεμβρίου 2017 στην πλατεία Εθνικής Αντιστάσεως.
Είσοδος ελεύθερη. 
LOCATION:Πλ. Εθ. Αντιστάσεως, Ηλιούπολη, Ελλάδα
END:VEVENT

END:VCALENDAR
