BEGIN:VCALENDAR
VERSION:2.0
PRODID:-//hacksw/handcal//NONSGML v1.0//EN
BEGIN:VEVENT
UID:48baa367ca27f8d423718c2b96d38358
DTSTAMP:20260421T042253Z

DTSTART:20171016T195300
DTEND:20171016T195300
SUMMARY: ΣΕΜΙΝΑΡΙΟ ΑΝΘΟΚΗΠΟΥΡΙΚΗΣ ΚΑΙ ΑΝΘΟΔΕΤΙΚΗΣ
DESCRIPTION:ΔΕΥΤΕΡΑ 9 ΚΑΙ 16 ΟΚΤΩΒΡΙΟΥ 2017
ΔΙΗΜΕΡΟ ΣΕΜΙΝΑΡΙΟ ΑΝΘΟΚΗΠΟΥΡΙΚΗΣ ΚΑΙ ΑΝΘΟΔΕΤΙΚΗΣ ΓΙΑ ΟΛΟΥΣ
ΜΟΥΣΕΙΟ ΕΘΝΙΚΗΣ ΑΝΤΙΣΤΑΣΗΣ ΤΗΣ ΗΛΙΟΥΠΟΛΗΣ
LOCATION:Λεωφ. Μαρίνου Αντύπα και Λεωφ. Σοφοκλή Βενιζέλου, Ηλιούπολη 163 45, Ελλάδα
END:VEVENT

END:VCALENDAR
