BEGIN:VCALENDAR
VERSION:2.0
PRODID:-//hacksw/handcal//NONSGML v1.0//EN
BEGIN:VEVENT
UID:e29e95a17548a2f7db00e0d5d7d6928b
DTSTAMP:20260421T032813Z

DTSTART:20171009T180000
DTEND:20171009T180000
SUMMARY: ΣΕΜΙΝΑΡΙΟ ΑΝΘΟΚΗΠΟΥΡΙΚΗΣ ΚΑΙ ΑΝΘΟΔΕΤΙΚΗΣ
DESCRIPTION:ΔΕΥΤΕΡΑ 9 ΚΑΙ 16 ΟΚΤΩΒΡΙΟΥ 2017
ΔΙΗΜΕΡΟ ΣΕΜΙΝΑΡΙΟ ΑΝΘΟΚΗΠΟΥΡΙΚΗΣ ΚΑΙ ΑΝΘΟΔΕΤΙΚΗΣ ΓΙΑ ΟΛΟΥΣ
ΜΟΥΣΕΙΟ ΕΘΝΙΚΗΣ ΑΝΤΙΣΤΑΣΗΣ ΤΗΣ ΗΛΙΟΥΠΟΛΗΣ
LOCATION:Λεωφ. Μαρίνου Αντύπα και Λεωφ. Σοφοκλή Βενιζέλου, Ηλιούπολη 163 45, Ελλάδα
END:VEVENT

END:VCALENDAR
