BEGIN:VCALENDAR
VERSION:2.0
PRODID:-//hacksw/handcal//NONSGML v1.0//EN
BEGIN:VEVENT
UID:8515768313f6c69e483a73ac66bbff82
DTSTAMP:20260420T181950Z

DTSTART:20170915T193000
DTEND:20170915T213000
SUMMARY:ΣΥΖΗΤΗΣΗ ΓΙΑ ΤΟ ΔΙΚΑΙΩΜΑ ΤΩΝ ΠΑΙΔΙΩΝ ΣΤΗΝ ΠΡΟΣΧΟΛΙΚΗ ΑΓΩΓΗ ΠΑΡΑΣΚΕΥΗ 15/9/2017, ώρα 7.30μμ, Πλατεία ΦΛΕΜΙΝΓΚ (Ηρώων)
DESCRIPTION:
LOCATION:
END:VEVENT

END:VCALENDAR
