BEGIN:VCALENDAR
VERSION:2.0
PRODID:-//hacksw/handcal//NONSGML v1.0//EN
BEGIN:VEVENT
UID:1624835e39b988d4b76d391a572f5276
DTSTAMP:20260420T180629Z

DTSTART:20170917T100000
DTEND:20170917T100000
SUMMARY: 6Η ΓΙΟΡΤΗ ΑΝΑΚΥΚΛΩΣΗΣ ΔΗΜΟΥ ΗΛΙΟΥΠΟΛΗΣ
DESCRIPTION: 6Η ΓΙΟΡΤΗ ΑΝΑΚΥΚΛΩΣΗΣ ΔΗΜΟΥ ΗΛΙΟΥΠΟΛΗΣ

Την Κυριακή 17 Σεπτεμβρίου 2017 θα πραγματοποιηθεί η 6η Γιορτή Ανακύκλωσης του Δήμου Ηλιούπολης στην πλατεία Φλέμινγκ και ώρα 10:00 - 15:00.

Η εκδήλωση θα περιλαμβάνει διαδραστικά παιχνίδια όπου τα παιδιά θα μπορούν να μάθουν παίζοντας και να παίξουν μαθαίνοντας την ανακύκλωση.

Επίσης θα πραγματοποιηθεί μια μοναδική συναυλία με τον Αλέξανδρο Χτηστίδη & τους Voyage Jazz Group με ανακυκλώσιμα υλικά!

 
LOCATION:
END:VEVENT

END:VCALENDAR
