BEGIN:VCALENDAR
VERSION:2.0
PRODID:-//hacksw/handcal//NONSGML v1.0//EN
BEGIN:VEVENT
UID:73ed8ed5d0508fce4c9c10c94e4bb537
DTSTAMP:20260420T180315Z

DTSTART:20170913T200000
DTEND:20170913T200000
SUMMARY: Εγκαίνια  του  Κέντρου Κοινότητας
DESCRIPTION:ΠΡΟΣΚΛΗΣΗ
Ο Δήμος  Ηλιούπολης  σας προσκαλεί  στα εγκαίνια  του 
Κέντρου Κοινότητας  στην  οδό Ηρώ Κωνσταντοπούλου 52
την Τετάρτη  13 Σεπτεμβρίου  2017  και ώρα 18:00 μ.μ
Στόχος του είναι, η ανάπτυξη  ενός τοπικού σημείου αναφοράς 
για την υποδοχή,  εξυπηρέτηση  και διασύνδεση  των πολιτών με 
όλα τα κοινωνικά  προγράμματα  και υπηρεσίες που 
υλοποιούνται στην  περιοχή του Δήμου. 
Η παρουσί α σας  θα  εί ναι για μας  ιδιαίτερη τιμή και  χαρά. 

Ο Αντιδήμαρχος 
Κοινωνικής Αλληλεγγύης
Μαρίνος Μπασούρης

Ο Δήμαρχος 
Βασίλης Βαλασόπουλος
LOCATION:Ηρως Κωνσταντόπουλου 52, Ηλιούπολη 163 46, Ελλάδα
END:VEVENT

END:VCALENDAR
