BEGIN:VCALENDAR
VERSION:2.0
PRODID:-//hacksw/handcal//NONSGML v1.0//EN
BEGIN:VEVENT
UID:95a18fa3ba2757b86643686c72229c5e
DTSTAMP:20260421T021149Z

DTSTART:20151009T190000
DTEND:20151009T190000
SUMMARY:10ο Δημ. Σχ. Ηλιούπολης - Διεθνές Σχολείο
DESCRIPTION:Το 10ο Δημοτικό Σχολείο Ηλιούπολης γιορτάζει την διάκρισή του ως "Διεθνές Σχολείο" και οργανώνει εκδήλωση στο Μουσείο Εθνικής Αντίστασης (Μαρίνου Αντύπα & Ελ. Βενιζέλου) την Παρασκευή 9 Οκτωβρίου 2015 στις 19:00. Οι μαθητές και οι μαθήτριες της Ε' και της Στ΄τάξης (σχ. έτους 2014-15) σας περιμένουμε για να γιορτάσουμε μαζί την επιτυχία μας. 
LOCATION:
END:VEVENT

END:VCALENDAR
