BEGIN:VCALENDAR
VERSION:2.0
PRODID:-//hacksw/handcal//NONSGML v1.0//EN
BEGIN:VEVENT
UID:b04d95875d860e8a4dbc5b12d55884ee
DTSTAMP:20260420T174249Z

DTSTART:20170906T203000
DTEND:20170906T203000
SUMMARY:Προβολή Ο ΕΠΙΦΑΝΗΣ ΠΟΛΙΤΗΣ των Γκαστόν Ντιπράτ και Μαριάνο Κον
DESCRIPTION:Η Κινηματογραφική Λέσχη Ηλιούπολης 
σας προσκαλεί  στην προβολή της ταινίας
Ο ΕΠΙΦΑΝΗΣ ΠΟΛΙΤΗΣ (EL CIUDADANO ILUSTRE)
   των Γκαστόν Ντιπράτ και Μαριάνο Κον  (ΑΡΓΕΝΤΙΝΗ/ΙΣΠΑΝΙΑ, 2016, έγχρωμη, 118΄)

l ΤΕΤΑΡΤΗ   06/09/2017      
ΤΕΧΝΗ, ΕΠΙΣΤΗΜΗ, ΠΟΛΙΤΙΚΗ ΚΑΙ ΙΣΤΟΡΙΑ ΣΕ ΤΑΙΝΙΕΣ ΤΗΣ ΛΑΤΙΝΙΚΗΣ ΑΜΕΡΙΚΗΣ

Βραβείο Κοινού στο Διεθνές Φεστιβάλ Κινηματογράφου Θεσσαλονίκης
Βραβείο Ανδρικής Ερμηνείας (Όσκαρ Μαρτίνεζ) στο Διεθνές Φεστιβάλ Κινηματογράφου Βενετίας
Σαρκαστική κωμωδία στην αρχή που στη συνέχεια μεταμορφώνεται σε σκοτεινό καφκικό μύθο. Ένας βραβευμένος με Νόμπελ Αργεντινός συγγραφέας επιστρέφει μετά από τέσσερις δεκαετίες στη γενέτειρά του για να βραβευτεί και να αντιμετωπίσει τους ανθρώπους και τα μέρη για τα οποία μιλάει στα βιβλία του. Η ταινία απογειώνεται από την ερμηνεία του Όσκαρ Μαρτίνεζ, που εντυπωσιάζει ως ένας άνδρας που ψάχνει τη χαμένη του αθωότητα για να συνειδητοποιήσει τελικά ότι αυτή δεν υπήρξε ποτέ.


ΤΕΤΑΡΤΗ 6/9 ΣΤΙΣ 08.30 μ.μ. ΚΑΙ ΣΤΙΣ 10.30 μ.μ.
ΣΤΟΝ ΔΗΜΟΤΙΚΟ ΚΙΝΗΜΑΤΟΓΡΑΦΟ ΗΛΙΟΥΠΟΛΗΣ «ΜΕΛΙΝΑ ΜΕΡΚΟΥΡΗ»

Λεωφ. Ειρήνης 50, Πλατεία Εθνικής Αντίστασης, Άνω Ηλιούπολη, Λεωφορείο 237 από στάση Δάφνη του Μετρό

Τηλ.: 210 9937870, 210 9941199, 210 9914732, 6945405825, E-mail: info@klh.gr

Ιστοσελίδα: http://www.klh.gr
LOCATION:
END:VEVENT

END:VCALENDAR
