BEGIN:VCALENDAR
VERSION:2.0
PRODID:-//hacksw/handcal//NONSGML v1.0//EN
BEGIN:VEVENT
UID:06f38e25f0acd4c01478e36f0a850caf
DTSTAMP:20260420T174249Z

DTSTART:20170823T203000
DTEND:20170823T203000
SUMMARY:Προβολή ταινίας ΔΟΛΟΦΟΝΙΚΑ ΑΜΑΞΙΔΙΑ    του Ατίλα Τιλ 
DESCRIPTION:Η Κινηματογραφική Λέσχη Ηλιούπολης σας προσκαλεί  στην προβολή της ταινίας

ΔΟΛΟΦΟΝΙΚΑ ΑΜΑΞΙΔΙΑ (TISZTA SZIVVEL)  
του Ατίλα Τιλ (ΟΥΓΓΑΡΙΑ, 2016, έγχρωμη, 105’)
   
Χρυσός Αλέξανδρος στο Διεθνές Φεστιβάλ Κινηματογράφου Θεσσαλονίκης


 

Μια απολαυστική και ευφάνταστη μαύρη κωμωδία δράσης του σύγχρονου ουγγρικού κινηματογράφου. Ο πρώην πυροσβέστης Ρουπάζοφ, που μένει παράλυτος από ατύχημα, βγαίνει από τη φυλακή και πηγαίνει σε ένα κέντρο αποκατάστασης. Εκεί, συναντά τον εικοσάχρονο Ζολί και τον καλύτερό του φίλο Μπάρμπα, χρήστες αναπηρικών αμαξιδίων, που φιλοδοξούν να γίνουν σχεδιαστές κόμικ. Η ανορθόδοξη συμπεριφορά του Ρουπάζοφ εμπνέει τα δυο αγόρια να γευτούν στο έπακρο τη ζωή. 

ΤΕΤΑΡΤΗ 23/8 ΣΤΙΣ 08.30 μ.μ. ΚΑΙ ΣΤΙΣ 10.30 μ.μ.
ΣΤΟΝ ΔΗΜΟΤΙΚΟ ΚΙΝΗΜΑΤΟΓΡΑΦΟ ΗΛΙΟΥΠΟΛΗΣ «ΜΕΛΙΝΑ ΜΕΡΚΟΥΡΗ»

Λεωφ. Ειρήνης 50, Πλατεία Εθνικής Αντίστασης, Άνω Ηλιούπολη, Λεωφορείο 237 από στάση Δάφνη του Μετρό

Τηλ.: 210 9937870, 210 9941199, 210 9914732, 6945405825, E-mail: info@klh.gr

Ιστοσελίδα: http://www.klh.gr
LOCATION:
END:VEVENT

END:VCALENDAR
