BEGIN:VCALENDAR
VERSION:2.0
PRODID:-//hacksw/handcal//NONSGML v1.0//EN
BEGIN:VEVENT
UID:2b7cf076a9466a3725f4cf16f20a91aa
DTSTAMP:20260420T174303Z

DTSTART:20170816T000000
DTEND:20170816T000000
SUMMARY:Προβολή ταινίας ΜΙΑ ΒΟΛΤΑ ΣΤΗ ΓΑΛΛΙΑ  του Ρασίντ Tζαϊντανί  
DESCRIPTION:Η Κινηματογραφική Λέσχη Ηλιούπολης σας προσκαλεί 

ΟΨΕΙΣ ΤΟΥ ΣΥΓΧΡΟΝΟΥ ΕΥΡΩΠΑΪΚΟΥ ΚΙΝΗΜΑΤΟΓΡΑΦΟΥ: ΑΠΟ ΤΗΝ ΙΣΛΑΝΔΙΑ ΚΑΙ ΤΟ ΒΕΛΓΙΟ ΣΤΗ ΓΑΛΛΙΑ ΚΑΙ ΤΗΝ ΟΥΓΓΑΡΙΑ  

l ΤΕΤΑΡΤΗ   16/08/2017      ΜΙΑ ΒΟΛΤΑ ΣΤΗ ΓΑΛΛΙΑ (TOUR DE FRANCE) 
του Ρασίντ Tζαϊντανί  (ΓΑΛΛΙΑ, 2016, έγχρωμη, 95΄)





Βραβείο της Κριτικής Επιτροπής στο Φεστιβάλ Γαλλόφωνου Κινηματογράφου της Ελλάδας (2017)
Ταινία δρόμου (road movie) του Ρασίντ Τζαϊντανί, με τον Ζεράρ Ντεπαρντιέ απολαυστικό στον ρόλο του. Εξαιτίας μιας διαμάχης, ο εικοσάχρονος ράπερ Φαρούκ αναγκάζεται να εγκαταλείψει το Παρίσι και να συνοδεύσει τον ξενοφοβικό και με ξεπερασμένες αντιλήψεις πατέρα του παραγωγού του σε ένα ταξίδι στα λιμάνια της νότιας Γαλλίας. Περιήγηση σε μια Γαλλία που διχάζεται ανάμεσα στο  νοσταλγικό παρελθόν και τη σύγχρονη πολυπολιτισμική ταυτότητα.

ΤΕΤΑΡΤΗ 16/8 ΣΤΙΣ 8.30 μ.μ. ΚΑΙ ΣΤΙΣ 10.30 μ.μ.


ΣΤΟΝ ΔΗΜΟΤΙΚΟ ΚΙΝΗΜΑΤΟΓΡΑΦΟ ΗΛΙΟΥΠΟΛΗΣ «ΜΕΛΙΝΑ ΜΕΡΚΟΥΡΗ»

   Λεωφ. Ειρήνης 50, Πλατεία Εθνικής Αντίστασης, Άνω Ηλιούπολη, Λεωφορείο 237 από στάση Δάφνη του Μετρό


Τηλ.: 210 9937870, 210 9941199, 210 9914732, 6945405825, E-mail: info@klh.gr

Ιστοσελίδα: http://www.klh.gr
LOCATION:
END:VEVENT

END:VCALENDAR
