BEGIN:VCALENDAR
VERSION:2.0
PRODID:-//hacksw/handcal//NONSGML v1.0//EN
BEGIN:VEVENT
UID:59e30e854f2da7f30e90f3622e73f181
DTSTAMP:20260420T174012Z

DTSTART:20170809T210000
DTEND:20170809T210000
SUMMARY:Προβολή ταινίας Η ΖΩΗ ΜΙΑΣ ΓΥΝΑΙΚΑΣ (UNE VIE) του  Στεφάν Μπριζέ  
DESCRIPTION:Η Κινηματογραφική Λέσχη Ηλιούπολης σας προσκαλεί 

ΟΨΕΙΣ ΤΟΥ ΣΥΓΧΡΟΝΟΥ ΕΥΡΩΠΑΪΚΟΥ ΚΙΝΗΜΑΤΟΓΡΑΦΟΥ: ΑΠΟ ΤΗΝ ΙΣΛΑΝΔΙΑ ΚΑΙ ΤΟ ΒΕΛΓΙΟ ΣΤΗ ΓΑΛΛΙΑ ΚΑΙ ΤΗΝ ΟΥΓΓΑΡΙΑ  

l ΤΕΤΑΡΤΗ   09/08/2017      Η ΖΩΗ ΜΙΑΣ ΓΥΝΑΙΚΑΣ (UNE VIE) του  Στεφάν Μπριζέ  (ΓΑΛΛΙΑ/ΒΕΛΓΙΟ, 2016, έγχρωμη, 119΄)
Βραβείο της Διεθνούς Ένωσης Κριτικών Κινηματογράφου (FIPRESCI) στο Διεθνές Φεστιβάλ Κινηματογράφου Βενετίας
Διασκευή του μυθιστορήματος Μια ζωή (1883) του Γκι ντε Μοπασάν από τον Γάλλο σκηνοθέτη Στεφάν Μπριζέ (Ο νόμος της αγοράς, 2015). Νορμανδία, 1819. Η Ζαν είναι μια νέα γυναίκα γεμάτη όνειρα και αθωότητα που επιστρέφει στο σπίτι της μετά από τα σχολικά χρόνια που τα πέρασε σε μοναστήρι. Παντρεύεται έναν ευγενή της περιοχής, αλλά σύντομα αυτός αποδεικνύεται τσιγκούνης και άπιστος. Σιγά σιγά οι ψευδαισθήσεις της διαλύονται. Μια ταινία εποχής για το τέλος του ρομαντισμού και της αθωότητας που έρχεται με την ενηλικίωση.
ΤΕΤΑΡΤΗ 9/8 ΣΤΙΣ 9.00 μ.μ. ΚΑΙ ΣΤΙΣ 11.00 μ.μ.


ΣΤΟΝ ΔΗΜΟΤΙΚΟ ΚΙΝΗΜΑΤΟΓΡΑΦΟ ΗΛΙΟΥΠΟΛΗΣ «ΜΕΛΙΝΑ ΜΕΡΚΟΥΡΗ»

   Λεωφ. Ειρήνης 50, Πλατεία Εθνικής Αντίστασης, Άνω Ηλιούπολη, Λεωφορείο 237 από στάση Δάφνη του Μετρό


Τηλ.: 210 9937870, 210 9941199, 210 9914732, 6945405825, E-mail: info@klh.gr

Ιστοσελίδα: http://www.klh.gr
LOCATION:
END:VEVENT

END:VCALENDAR
