BEGIN:VCALENDAR
VERSION:2.0
PRODID:-//hacksw/handcal//NONSGML v1.0//EN
BEGIN:VEVENT
UID:497f2bfd71d9575c16b0a5a2bb55ec10
DTSTAMP:20260420T174008Z

DTSTART:20170726T210000
DTEND:20170726T210000
SUMMARY:Προβολή ταινίας GIMME DANGER  του Τζιμ Τζάρμους 
DESCRIPTION:Η Κινηματογραφική Λέσχη Ηλιούπολης σας προσκαλεί 

ΤΖΙΜ ΤΖΑΡΜΟΥΣ - ΕΜΒΛΗΜΑΤΙΚΗ ΜΟΡΦΗ ΤΟΥ ΑΝΕΞΑΡΤΗΤΟΥ ΑΜΕΡΙΚΑΝΙΚΟΥ ΚΙΝΗΜΑΤΟΓΡΑΦΟΥ

ΤΕΤΑΡΤΗ   26/07/2017      GIMME DANGER 
του Τζιμ Τζάρμους (ΗΠΑ, 2016, έγχρωμη, 108΄)

Κατάθεση ψυχής και αγάπης από τον Τζιμ Τζάρμους για τον Ίγκι Ποπ και τους Stooges. Στο ντοκιμαντέρ του αυτό, ο Τζάρμους ξεδιπλώνει την ιστορία τους όχι μέσα από προσωπικές διαδρομές και σκάνδαλα, αλλά μέσα από ένα πολιτιστικό, πολιτικό, ιστορικό και μουσικό πρίσμα. Οι Stooges, rock ‘n’ roll συγκρότημα που ξεπήδησε μέσα από την πολιτιστική επανάσταση της δεκαετίας του ’60, ανέτρεψαν τις κυρίαρχες μουσικές φόρμες της περιόδου. Τα μέλη του συγκροτήματος κατάγονταν από το Μίσιγκαν, καρδιά της βαριάς βιομηχανίας των ΗΠΑ αλλά και της πιο πλούσιας μουσικής σκηνής, όπου η ροκ συναντούσε τη μαύρη μουσική - μπλουζ, r’n’b και freejazz. 




ΤΕΤΑΡΤΗ 26/7 ΣΤΙΣ 9.00 μ.μ. ΚΑΙ ΣΤΙΣ 11.00 μ.μ.


ΣΤΟΝ ΔΗΜΟΤΙΚΟ ΚΙΝΗΜΑΤΟΓΡΑΦΟ ΗΛΙΟΥΠΟΛΗΣ «ΜΕΛΙΝΑ ΜΕΡΚΟΥΡΗ»

   Λεωφ. Ειρήνης 50, Πλατεία Εθνικής Αντίστασης, Άνω Ηλιούπολη, Λεωφορείο 237 από στάση Δάφνη του Μετρό

Τηλ.: 210 9937870, 210 9941199, 210 9914732, 6945405825, E-mail: info@klh.gr

Ιστοσελίδα: http://www.klh.gr
LOCATION:
END:VEVENT

END:VCALENDAR
