BEGIN:VCALENDAR
VERSION:2.0
PRODID:-//hacksw/handcal//NONSGML v1.0//EN
BEGIN:VEVENT
UID:a071d23534680e76482729e9bcde570f
DTSTAMP:20260420T180658Z

DTSTART:20170720T200000
DTEND:20170720T200000
SUMMARY:Δίκαιη Ανάπτυξη και Εργασιακές Σχέσεις
DESCRIPTION:ΠΡΟΣΚΛΗΣΗ

Η Ο.Μ. ΣΥΡΙΖΑ Ηλιούπολης
σας προσκαλεί στην εκδήλωση με θέμα :

"Δίκαιη Ανάπτυξη και Εργασιακές Σχέσεις"

με ομιλητή
τον Υπουργό Επικρατείας - Κυβερνητικό εκπρόσωπο

Δημήτρη Τζανακόπουλο

ΠΕΜΠΤΗ 20 ΙΟΥΛΙΟΥ 2017 - Ωρα 8.00 μμ
Πλατεία Φλέμινγκ (Ηρώων) - Λ. Ειρήνης ΗΛΙΟΥΠΟΛΗ

LOCATION:
END:VEVENT

END:VCALENDAR
