BEGIN:VCALENDAR
VERSION:2.0
PRODID:-//hacksw/handcal//NONSGML v1.0//EN
BEGIN:VEVENT
UID:fac4dde460c947e8020563a638eddedc
DTSTAMP:20260420T174119Z

DTSTART:20170712T210000
DTEND:20170712T210000
SUMMARY:Προβολή ταινίας ΕΠΙΣΗΜΗ ΙΣΤΟΡΙΑ (LA HISTORIA OFICIAL) του Λουίς Πουέντζο 
DESCRIPTION:
Η Κινηματογραφική Λέσχη Ηλιούπολης σας προσκαλεί 


ΚΛΑΣΙΚΕΣ ΔΗΜΙΟΥΡΓΙΕΣ ΤΟΥ ΠΑΓΚΟΣΜΙΟΥ ΚΙΝΗΜΑΤΟΓΡΑΦΟΥ


ΤΕΤΑΡΤΗ  12/07/2017       ΕΠΙΣΗΜΗ ΙΣΤΟΡΙΑ (LA HISTORIA OFICIAL)
του Λουίς Πουέντζο (ΑΡΓΕΝΤΙΝΗ, 1985, έγχρωμη, 112΄)
•Όσκαρ Καλύτερης Ξενόγλωσσης Ταινίας (1986)
•Είκοσι τέσσερα διεθνή βραβεία 


Μια από από τις σημαντικότερες ταινίες της δεκαετίας του ΄80. Αργεντινή, 1983, μετά το τέλος της δικτατορίας. Η Αλίσια (Νόρμα Αλεάντρο), καθηγήτρια Ιστορίας σε γυμνάσιο του Μπουένος Άιρες, αρχίζει να υποψιάζεται πως η υιοθετημένη κόρη της είναι παιδί θυμάτων της στρατιωτικής χούντας, η οποία κατά τη διάρκεια της εξουσίας της είχε «εξαφανίσει» δεκάδες χιλιάδες πολίτες. Βραβείο Καλύτερης Γυναικείας Ερμηνείας για τη Νόρμα Αλεάντρο στο Φεστιβάλ Κινηματογράφου των Κανών. 





LOCATION:
END:VEVENT

END:VCALENDAR
