BEGIN:VCALENDAR
VERSION:2.0
PRODID:-//hacksw/handcal//NONSGML v1.0//EN
BEGIN:VEVENT
UID:eb6bf55deb3bdf1a13f9756331e9a60a
DTSTAMP:20260420T164017Z

DTSTART:20170708T180000
DTEND:20170708T210000
SUMMARY:Zumbathon Charity Event για την Ελληνική Εταιρεία Κοιλιοκάκης
DESCRIPTION:Η Ελληνική Εταιρεία Κοιλιοκάκης είναι στην ευχάριστη θέση να σας ανακοινώσει το πρώτο Zumbathon για την Κοιλιοκάκη που θα πραγματοποιηθεί αυτό το καλοκαίρι!

Στο πλαίσιο της εκστρατείας ένημερωσης και διάδοσης για τη νόσο της Κοιλιοκάκης, μια ομάδα zumba instructors διοργανώνει ένα Ζumbathon Charity Event για την ενίσχυση των προγραμμάτων του Συλλόγου μας.
Μαζί τους θα είναι για πρώτη φορά στην Ελλάδα ο International Zumba Presenter Pedro Camacho από τον Άγιο Δομίνικο.

Σας περιμένουμε όλους το Σάββατο 8 Ιουλίου 2017, 18:00-21:00, στο Α' κλειστό γυμναστήριο Ηλιούπολης να zumbaρουμε όλοι μαζί για την Κοιλιοκάκη!
LOCATION:Εθνάρχου Μακαρίου, Ηλιούπολη 163 41, Ελλάδα
END:VEVENT

END:VCALENDAR
