BEGIN:VCALENDAR
VERSION:2.0
PRODID:-//hacksw/handcal//NONSGML v1.0//EN
BEGIN:VEVENT
UID:4149d95beb1c6d2965dab6d512649c8a
DTSTAMP:20260420T181257Z

DTSTART:20170705T200000
DTEND:20170705T200000
SUMMARY:Πρωτοβάθμια Φροντίδα Υγείας. Τοπικές Μονάδες Υγείας. ΠΕΔΥ Ηλιούπολης
DESCRIPTION:H Δημοτική Κίνηση Ἡλιου-πόλις Ανθρώπινη Πόλη",
διοργανώνει ανοικτή εκδήλωση στην Πλατεία Φλέμινγκ (Ηρώων) την Τετάρτη 5 Ιουλίου στις 8 το βράδυ,  με θέμα "Πρωτοβάθμια Φροντίδα Υγείας. Τοπικές Μονάδες Υγείας. ΠΕΔΥ Ηλιούπολης''. 

Ομιλητές : 
Ανδρέας ΞΑΝΘΟΣ, Υπουργός Υγείας 
Σταμάτης ΒΑΡΔΑΡΟΣ, Αν. Γ.Γ. Υπουργείου Υγείας 
Χρήστος ΚΟΚΟΤΙΝΗΣ, Επικεφαλής Δημοτικής Κίνησης "Ηλίου-Πόλις"
Αθανάσιος ΛΑΪΝΑΣ, Διευθυντής ΠΕΔΥ Ηλιούπολης 

LOCATION:
END:VEVENT

END:VCALENDAR
