BEGIN:VCALENDAR
VERSION:2.0
PRODID:-//hacksw/handcal//NONSGML v1.0//EN
BEGIN:VEVENT
UID:8bccb5a440b60728c0ed7db54152ff41
DTSTAMP:20260421T033013Z

DTSTART:20170628T210000
DTEND:20170628T210000
SUMMARY:ΚΛΗ: Ο ΚΛΕΨΑΣ ΤΟΥ ΚΛΕΨΑΝΤΟΣ (I SOLITI IGNOTI)
DESCRIPTION:Ο ΚΛΕΨΑΣ ΤΟΥ ΚΛΕΨΑΝΤΟΣ (I SOLITI IGNOTI)
του Μάριο Μονιτσέλι (ΙΤΑΛΙΑ, 1958, ασπρόμαυρη, 106΄)

Ταινία-σταθμός στην ιστορία της ιταλικής κινηματογραφικής κωμωδίας και σάτιρας, ένα μείγμα Κομέντια ντελ άρτε και νεορεαλισμού. Μια συμμορία μικροαπατεώνων που δρα στα λαϊκά περίχωρα της Ρώμης προετοιμάζεται για ένα μεγάλο κόλπο, τη ληστεία ενός ενεχυροδανειστηρίου. Ταινία με χαρακτήρες πολύ  στέρεα δομημένους, η οποία μέσα από το κωμικό στοιχείο αποτυπώνει την κοινωνική πραγματικότητα της εποχής. Εξαιρετικές ερμηνείες από τους Μαρτσέλο Μαστρογιάνι, Βιτόριο Γκάσμαν, Κλαούντια Καρντινάλε, Ρενάτο Σαλβατόρι και Τοτό.

ΤΕΤΑΡΤΗ 28/6 ΣΤΙΣ 9.00 μ.μ. ΚΑΙ ΣΤΙΣ 11.00 μ.μ.
ΣΤΟΝ ΔΗΜΟΤΙΚΟ ΚΙΝΗΜΑΤΟΓΡΑΦΟ ΗΛΙΟΥΠΟΛΗΣ «ΜΕΛΙΝΑ ΜΕΡΚΟΥΡΗ»
   Λεωφ. Ειρήνης 50, Πλατεία Εθνικής Αντίστασης, Άνω Ηλιούπολη, Λεωφορείο 237 από στάση Δάφνη του Μετρό



LOCATION:
END:VEVENT

END:VCALENDAR
