BEGIN:VCALENDAR
VERSION:2.0
PRODID:-//hacksw/handcal//NONSGML v1.0//EN
BEGIN:VEVENT
UID:d80177ad09a41eb34b6e7dbb8b5c77db
DTSTAMP:20260420T202354Z

DTSTART:20170621T210000
DTEND:20170621T210000
SUMMARY:ΠΡΟΒΟΛΗ ΤAΙΝΙΑΣ:"  ΣΤΡΙΓΓΛΕΣ / STRING-LESS  " του Αγγελου  Κοβότσου
DESCRIPTION:

ΤΕΤΑΡΤΗ   21/06/2017           ΣΤΡΙΓΓΛΕΣ / STRING-LESS           (ΣΕ ΠΡΩΤΗ ΠΡΟΒΟΛΗ)
του Άγγελου Κοβότσου (ΕΛΛΑΔΑ, 2017, έγχρωμη, 86΄)



-  Βραβείο Κοινού στο Φεστιβάλ Ντοκιμαντέρ Θεσσαλονίκης

-  Στην προβολή θα παρευρίσκονται ο Άγγελος Κοβότσος (σκηνοθέτης της ταινίας) και ο συνθέτης Βαγγέλης Φάμπας (παραγωγός της ταινίας).



Η δημιουργική πορεία και οι ζωές των μελών του γυναικείου πολυφωνικού συγκροτήματος της Θεσσαλονίκης «Στρίγγλες/StringLess». Με μόνο μουσικό όργανο τις φωνές τους, πέντε γυναίκες αγωνίζονται να επιβιώσουν στο δύσκολο καλλιτεχνικό περιβάλλον της πόλης, δημιουργώντας μια εναλλακτική μουσική, μια μουσική με γυναικεία ταυτότητα.




ΤΕΤΑΡΤΗ 21/6 ΣΤΙΣ 9.00 μ.μ. ΚΑΙ ΣΤΙΣ 11.00 μ.μ.


ΣΤΟΝ ΔΗΜΟΤΙΚΟ ΚΙΝΗΜΑΤΟΓΡΑΦΟ ΗΛΙΟΥΠΟΛΗΣ «ΜΕΛΙΝΑ ΜΕΡΚΟΥΡΗ»

   Λεωφ. Ειρήνης 50, Πλατεία Εθνικής Αντίστασης, Άνω Ηλιούπολη, Λεωφορείο 237 από στάση Δάφνη του Μετρό

Τηλ.: 210 9937870, 210 9941199, 210 9914732, 6945405825, E-mail: info@klh.gr

Ιστοσελίδα: http://www.klh.gr
LOCATION:
END:VEVENT

END:VCALENDAR
