BEGIN:VCALENDAR
VERSION:2.0
PRODID:-//hacksw/handcal//NONSGML v1.0//EN
BEGIN:VEVENT
UID:5e2bdb1cec1b232f87cb7d0652fc85b5
DTSTAMP:20260421T032851Z

DTSTART:20170623T200000
DTEND:20170625T213000
SUMMARY:Έκθεση κεραμικής, ψηφιδωτού & καλλιτεχνίας του IlioupolisOnline
DESCRIPTION:Σας προσκαλούμε
- την Παρασκευή 23 Ιουνίου 8:00 μμ στο Μουσείο Εθνικής Αντίστασης
στα εγκαίνια της έκθεσης των εργαστηρίων ψηφιδωτού, κεραμικής, καλλιτεχνικών και υπολογιστών του IlioupolisOnline
Η έκθεση θα λειτουργεί έως και Κυριακή 25 Ιουνίου ώρες 19:00 - 22:00

Δωρεαν είσοδος
LOCATION:
END:VEVENT

END:VCALENDAR
