BEGIN:VCALENDAR
VERSION:2.0
PRODID:-//hacksw/handcal//NONSGML v1.0//EN
BEGIN:VEVENT
UID:1b067d254ae02e624b2a3e72a057ed66
DTSTAMP:20260421T032815Z

DTSTART:20170619T203000
DTEND:20170619T203000
SUMMARY:Θεατρική Παράσταση : 'Τι γράψανε Μήδεια για σένα'
DESCRIPTION:Σας προσκαλούμε
- τη Δευτέρα 19 Ιουνίου στις 8:30 μμ στο θέατρο του Δημαρχιακού Μεγάρου
στην παράσταση του θεατρικού μας εργαστηρίου με το έργο ‘Τι γράψανε Μήδεια για σένα’
σε διδασκαλία Γιώργου Αδαμαντιάδη

    Δωρεάν είσοδος
LOCATION:
END:VEVENT

END:VCALENDAR
