BEGIN:VCALENDAR
VERSION:2.0
PRODID:-//hacksw/handcal//NONSGML v1.0//EN
BEGIN:VEVENT
UID:b7a8814b9fc2e8f99c36cbb292650c78
DTSTAMP:20260421T004442Z

DTSTART:20170618T183000
DTEND:20170618T183000
SUMMARY:ΕΚΘΕΣΕΙΣ ΕΡΓΑΣΤΗΡΙΩΝ ΕΙΚΑΣΤΙΚΩΝ ΤΕΧΝΩΝ ΔΗΜΟΥ ΗΛΙΟΥΠΟΛΗΣ
DESCRIPTION:
LOCATION:
END:VEVENT

END:VCALENDAR
