BEGIN:VCALENDAR
VERSION:2.0
PRODID:-//hacksw/handcal//NONSGML v1.0//EN
BEGIN:VEVENT
UID:f09cbbc60385867e75a33b44a9f6d3cd
DTSTAMP:20260421T004443Z

DTSTART:20170616T183000
DTEND:20170616T183000
SUMMARY:ΕΚΘΕΣΕΙΣ ΕΡΓΑΣΤΗΡΙΩΝ ΕΙΚΑΣΤΙΚΩΝ ΤΕΧΝΩΝ ΔΗΜΟΥ ΗΛΙΟΥΠΟΛΗΣ
DESCRIPTION:
LOCATION:
END:VEVENT

END:VCALENDAR
