BEGIN:VCALENDAR
VERSION:2.0
PRODID:-//hacksw/handcal//NONSGML v1.0//EN
BEGIN:VEVENT
UID:a4e248db3599c53698dae1f9eda686af
DTSTAMP:20260421T021046Z

DTSTART:20170615T183000
DTEND:20170615T183000
SUMMARY:ΕΚΘΕΣΕΙΣ ΕΡΓΑΣΤΗΡΙΩΝ ΕΙΚΑΣΤΙΚΩΝ ΤΕΧΝΩΝ ΔΗΜΟΥ ΗΛΙΟΥΠΟΛΗΣ
DESCRIPTION:
LOCATION:
END:VEVENT

END:VCALENDAR
