BEGIN:VCALENDAR
VERSION:2.0
PRODID:-//hacksw/handcal//NONSGML v1.0//EN
BEGIN:VEVENT
UID:a3fd817926767ddf09085ede6df32021
DTSTAMP:20260420T215736Z

DTSTART:20170614T183000
DTEND:20170614T183000
SUMMARY:ΕΚΘΕΣΕΙΣ ΕΡΓΑΣΤΗΡΙΩΝ ΕΙΚΑΣΤΙΚΩΝ ΤΕΧΝΩΝ ΔΗΜΟΥ ΗΛΙΟΥΠΟΛΗΣ
DESCRIPTION: ΕΚΘΕΣΕΙΣ ΕΡΓΑΣΤΗΡΙΩΝ ΕΙΚΑΣΤΙΚΩΝ ΤΕΧΝΩΝ ΔΗΜΟΥ ΗΛΙΟΥΠΟΛΗΣ

Ο «Πολιτιστικός Αθλητικός Οργανισμός του Δήμου Ηλιούπολης (Π.Α.Ο.Δ.ΗΛ.) - Γρηγόρης Γρηγορίου» σας καλεί να παρευρεθείτε στην Έκθεση των Eικαστικών Eργαστηρίων του.

Η ετήσια Έκθεση Εικαστικών του Δήμου Ηλιούπολης αναδεικνύει τη δυναμική των Εργαστηρίων του, που κάθε χρόνο υποδέχονται όλο και περισσότερα μέλη, όλων των ηλικιών, τα οποία ανακαλύπτουν νέους τρόπους έκφρασης της δημιουργικότητάς τους.

 Έκθεση Αγιογραφίας, Βιτρό και Συντήρησης Εικόνων «Ευαγγελίου Ανάγνωσις»

Η ξεχωριστή σημασία του Ευαγγελίου στη ζωή κάθε ορθόδοξου Χριστιανού, μας παρακίνησε να αφιερώσουμε τη φετινή ενότητα της Έκθεσης του τμήματος των αποφοίτων στον Παντοκράτορα και στους τέσσερις Ευαγγελιστές, που συνοδεύουν την πνευματική ζωή των πιστών.

Τετάρτη 14 Ιουνίου-Κυριακή 18 Ιουνίου 2017, στο Μουσείο Εθνικής Αντίστασης

Ωράριο λειτουργίας: 6.30 μ.μ.– 10 μ.μ.

Διδάσκουσα:

Μπίλλια - Γιαννοπούλου Αδαμαντία

Τα  εγκαίνια της  Έκθεσης Αγιογραφίας θα πραγματοποιηθούν την Τετάρτη 14 Ιουνίου και ώρα 7.30 μ.μ

 Έκθεση Παιδικής Ζωγραφικής

«Από την καθημερινή πραγματικότητα στα έργα του Πικάσο»

Τα παιδιά δημιουργούν με ερεθίσματα από εικόνες της καθημερινότητας αλλά και του παραμυθιού, με αφορμή έργα εκπροσώπων της μοντέρνας τέχνης

Τετάρτη 14 Ιουνίου-8 Σεπτεμβρίου 2017 στη Δημοτική Βιβλιοθήκη

Ωράριο: καθημερινά, τις ώρες λειτουργίας της Δημοτικής Βιβλιοθήκης

Διδάσκουσα:

Χριστοπούλου Θεανώ    

 Έκθεση Ζωγραφικής Ενηλίκων

«Για να ξέρεις τι να ζωγραφίσεις πρέπει να αρχίσεις να ζωγραφίζεις» Πάμπλο Πικάσο

Ανακαλύπτω, διερευνώ, δημιουργώ…μια διαδρομή από το ασπρόμαυρο στον κήπο των χρωμάτων.

Τετάρτη 14 Ιουνίου - Κυριακή 18 Ιουνίου 2017, στην Πλατεία Εθνικής Αντίστασης

Ωράριο λειτουργίας: 7.30 μ.μ.-11 μ.μ

Διδάσκουσες:

Γκικοπούλου Γιούλη - Πόρποδα Ολίβια

Τα  εγκαίνια της  Έκθεσης Ζωγραφικής Ενηλίκων θα πραγματοποιηθούν την Τετάρτη 14 Ιουνίου και ώρα 9 μ.μ., με συνοδεία jazz μουσικής, από τους μουσικούς: Χρήστο Κλαδά-σαξόφωνο, Στάθη Λιόντο-μπάσο και Θοδωρή Χριστοδούλου-τύμπανα.


Για περισσότερες πληροφορίες επικοινωνήστε στο τηλέφωνο: 210 9940699
LOCATION:
END:VEVENT

END:VCALENDAR
