BEGIN:VCALENDAR
VERSION:2.0
PRODID:-//hacksw/handcal//NONSGML v1.0//EN
BEGIN:VEVENT
UID:0c77b28d585fae566e8b804e495579ed
DTSTAMP:20260421T041609Z

DTSTART:20170630T210000
DTEND:20170630T210000
SUMMARY:ΔΙΗΜΕΡΟ ΗΠΕΙΡΩΤΙΚΟ ΠΑΝΗΓΥΡΙ
DESCRIPTION:Το πανηγύρι μας.
Το πανηγύρι είναι ο καημός, η ψυχή, τα βάσανα, η φτώχια, ο αγώνας, η προκοπή , οι σχέσεις, οι χαρές και οι λύπες...Κάθε τόπο, κάθε γωνιά και κάθε ηπειρώτικο απόσκιο θυμόμαστε με αγάπη εκεί όπου όχι μόνο απλά ονειρευτήκαμε, αλλά πλάσαμε και φυλλωσιές ονείρων. Κι όλα αυτά συνυπάρχουν μαζί με την ηπειρώτικη ψυχή στα πανηγύρια.
Με αυτές τις αρχές διοργανώνουμε και το φετινό διήμερο πανηγύρι μας την Παρασκευή  30 Ιουνίου και Σάββατο 1 Ιουλίου 2017 στον προαύλιο χώρο του 5ου Λυκείου Ηλιούπολης. (Είσοδος από τον παράδρομο της Βουλιαγμένης).
Την Παρασκευή θα διασκεδάσουμε με το συγκρότημα του Νίκου Φιλιππίδη και στο τραγούδι τον Αντώνη Κυρίτση, Θωμά Κυρίτση και Λευκοθέα Φιλιππίδη.
Ενώ το Σάββατο θα διασκεδάσουμε με το συγκρότημα του Γιώργου Κωτσίνη και στο τραγούδι τον Γιάννη Παπακώστα και Λάζαρο Τσαμπά.

LOCATION:
END:VEVENT

END:VCALENDAR
