BEGIN:VCALENDAR
VERSION:2.0
PRODID:-//hacksw/handcal//NONSGML v1.0//EN
BEGIN:VEVENT
UID:db96419a507e11fb49da5c8cd82a6571
DTSTAMP:20260420T173832Z

DTSTART:20170614T210000
DTEND:20170614T210000
SUMMARY:ΠΡΟΒΟΛΗ ΤAΙΝΙΑΣ:"INVISIBLE" του Δημήτρη Αθανίτη 
DESCRIPTION:ΚΙΝΗΜΑΤΟΓΡΑΦΙΚΗ ΛΕΣΧΗ ΗΛΙΟΥΠΟΛΗΣ - ΤΕΤΑΡΤΗ   14/06/2017 "INVISIBLE" του Δημήτρη Αθανίτη 


ΒΡΑΒΕΥΜΕΝΕΣ ΤΑΙΝΙΕΣ ΤΟΥ ΣΥΓΧΡΟΝΟΥ ΕΛΛΗΝΙΚΟΥ ΚΙΝΗΜΑΤΟΓΡΑΦΟΥ  
 ΤΕΤΑΡΤΗ   14/06/2017       INVISIBLE 
του Δημήτρη Αθανίτη (ΕΛΛΑΔΑ, 2015, έγχρωμη, 84΄)

#  Δώδεκα διεθνή βραβεία

#  Στην προβολή θα παρευρίσκεται και ο Δημήτρης Αθανίτης (σκηνοθέτης της ταινίας).




Ο Άρης (Γιάννης Στάνκογλου) είναι ένας μοναχικός τριανταπεντάρης, χωρισμένος, που δουλεύει σε ένα εργοστάσιο. Όταν ξαφνικά απολύεται χωρίς καμιά προειδοποίηση, αποφασίζει να αποδώσει δικαιοσύνη ο ίδιος, καθώς νιώθει θύμα μιας ακραίας αδικίας. Όμως δεν είναι μόνος του. Έχει μαζί του και τον εξάχρονο γιο του. Αγωνιώδης ατμόσφαιρα σε όλη τη διάρκεια της ταινίας, με την κάμερα καρφωμένη στο εκφραστικό - απελπισμένο αλλά ταυτόχρονα αποφασισμένο - πρόσωπο του Γιάννη Στάνκογλου.

ΤΕΤΑΡΤΗ 14/6 ΣΤΙΣ 9.00 μ.μ. ΚΑΙ ΣΤΙΣ 11.00 μ.μ.
ΣΤΟΝ ΔΗΜΟΤΙΚΟ ΚΙΝΗΜΑΤΟΓΡΑΦΟ ΗΛΙΟΥΠΟΛΗΣ «ΜΕΛΙΝΑ ΜΕΡΚΟΥΡΗ»
   Λεωφ. Ειρήνης 50, Πλατεία Εθνικής Αντίστασης, Άνω Ηλιούπολη, Λεωφορείο 237 από στάση Δάφνη του Μετρό
Τηλ.: 210 9937870, 210 9941199, 210 9914732, 6945405825, E-mail: info@klh.gr
Ιστοσελίδα: http://www.klh.gr  



LOCATION:
END:VEVENT

END:VCALENDAR
