BEGIN:VCALENDAR
VERSION:2.0
PRODID:-//hacksw/handcal//NONSGML v1.0//EN
BEGIN:VEVENT
UID:072ac15dfc2c8967967db4a7083b43dd
DTSTAMP:20260421T021426Z

DTSTART:20170530T203000
DTEND:20170530T230000
SUMMARY:Ο Δημήτρης Στεφανάκης στο Απρόβλεπτο
DESCRIPTION:Το βιβλιοπωλείο Απρόβλεπτο και οι εκδόσεις Μεταίχμιο 
σας προσκαλούν στην παρουσίαση του νέου μυθιστορήματος 
του Δημήτρη Στεφανάκη "Ευτυχισμένες οικογένειες"
την Τρίτη 30 Μαΐου 2017 στις 8:30 μ.μ. στο χώρο του βιβλιοπωλείου.

Για το βιβλίο θα μιλήσουν η Αντιγόνη Καμπέρου, συγγραφέας και φιλόλογος και η Ελένη Καραθανάση, συντηρήτρια έργων τέχνης.

Βιβλιοπωλείο Απρόβλεπτο, Ρήγα Φεραίου 25, Ηλιούπολη, 
τηλ. 210 99 40 110
LOCATION:Ρήγα Φεραίου 25, Ηλιούπολη 163 43, Ελλάδα
END:VEVENT

END:VCALENDAR
