BEGIN:VCALENDAR
VERSION:2.0
PRODID:-//hacksw/handcal//NONSGML v1.0//EN
BEGIN:VEVENT
UID:347197b366c05cce62313ce9eed8507c
DTSTAMP:20260420T181159Z

DTSTART:20170531T203000
DTEND:20170531T203000
SUMMARY:ΕΚΔΗΛΩΣΗ ΜΕ ΘΕΜΑ: ΚΩΝΣΤΑΝΤΙΝΟΥΠΟΛΗ: ΑΝΑΤΟΛΗΣ ΙΧΝΗ, ΔΥΣΗΣ ΠΕΡΑΣΜΑΤΑ 
DESCRIPTION:ΕΚΔΗΛΩΣΗ ΜΕ ΘΕΜΑ: ΚΩΝΣΤΑΝΤΙΝΟΥΠΟΛΗ: ΑΝΑΤΟΛΗΣ ΙΧΝΗ, ΔΥΣΗΣ ΠΕΡΑΣΜΑΤΑ 
 
Αξιότιμες/οι κυρίες/οι,
Σας αποστέλλουμε πρόσκληση σε εκδήλωση με θέμα 
Κωνσταντινούπολη:
Ανατολής ίχνη, Δύσης περάσματα.
Πορεία της Ρωμιοσύνης. Μνήμες του χθες, στιγμές του σήμερα, προσδοκίες του αύριο!

Τετάρτη 31 Μαϊου 2017, ώρα 8:30 μ.μ.
Ιερός Καθεδρικός Ναός Κοιμήσεως Θεοτόκου Ηλιουπόλεως, Λεωφ. Ειρήνης 29

Γενική καλλιτεχνική διεύθυνση: Ανδρέας Ατζάμπος
Συμμετέχουν:
· Μουσικό Σχήμα «Μελίρρυτον» υπό τη διεύθυνση του Πρωτοψάλτη κ. Θανάση Δασκαλοθανάση,
· Εργαστήρι Παραδοσιακού Τραγουδιού της Ένωσης Ρουμελιωτών Νέας Ιωνίας υπό τη διεύθυνση του κ. Παναγιώτη Σδούκου,
· Χορευτικά Τμήματα της Ένωσης Ρουμελιωτών Νέας Ιωνίας υπό τη διεύθυνση του κ. Ανδρέα Ατζάμπου και συνοδεία παραδοσιακής μουσικής

Πριν τη λήξη της εκδηλώσεως, το Δ.Σ της Ενοριακής Ένωσης Επιστημόνων με ομόφωνη απόφασή του θα απονείμει τον τίτλο του Επιτίμου μέλους αυτής στον αξιότιμο κ. Βασίλειο Βαλασόπουλο, Δήμαρχο Ηλιουπόλεως.

Ο Δήμαρχος                                         Ο Ι. Προϊστάμενος
Βασίλειος Βαλασόπουλος                  Αρχιμ. Σπυρίδων Κατραμάδος
 

LOCATION:
END:VEVENT

END:VCALENDAR
