BEGIN:VCALENDAR
VERSION:2.0
PRODID:-//hacksw/handcal//NONSGML v1.0//EN
BEGIN:VEVENT
UID:7111575d1452032783bce2b47f69bb24
DTSTAMP:20260421T021151Z

DTSTART:20170530T083000
DTEND:20170530T083000
SUMMARY:30 χρόνια ει-δικές μας ζωές 1987-2017
DESCRIPTION:Ο χρόνος δεν είναι μόνο αριθμός που μετρά το διάνυσμα ανάμεσα σε δύο σημεία, το παρελθόν και το παρόν, είναι το περιεχόμενο που αφήνει το ει-δικό του βάρος στις ζωές των ανθρώπων.

30 χρόνια πέρασαν από την πρώτη μέρα λειτουργίας του Ειδικού Σχολείου- Γυμνασίου και Λυκείου στην Ηλιούπολη-και οι μαθητές μας, νέοι και παλαιοί απόφοιτοι, εκφράζουν τα βιώματα, τις εμπειρίες και το αποτύπωμα που άφησε το σχολείο αυτό στις ει- δικές τους ζωές.

Σας περιμένουμε όλους στη μεγάλη μας εκδήλωση που θα γίνει στον χώρο του σχολείου μας, θα ακολουθήσει συναυλία με γνωστούς καλλιτέχνες:

ΧΡΥΣΌΣΤΟΜΟ ΚΑΡΑΝΤΩΝΙΟΥ
ΗΣΑΙΑ ΜΑΤΙΑΜΠΑ
ΑΠΟΣΤΟΛΟ ΜΟΣΙΟ
ΠΑΝΟ ΠΑΠΑΙΩΑΝΝΟΥ
ΜΥΡΩΝΑ ΣΤΡΑΤΗ
ΚΩΝΣΤΑΝΤΙΝΟ ΤΣΙΜΟΥΡΗ

Πληροφορίες :2109935714
LOCATION:
END:VEVENT

END:VCALENDAR
