BEGIN:VCALENDAR
VERSION:2.0
PRODID:-//hacksw/handcal//NONSGML v1.0//EN
BEGIN:VEVENT
UID:b703f461c72a6ff381aedd7bc4c51728
DTSTAMP:20260420T180340Z

DTSTART:20170527T080000
DTEND:20170527T080000
SUMMARY:Για την 76η επέτειο της μάχης της Κρήτης
DESCRIPTION:Οι Σύλλογοι Κρητών Ηλιούπολης - Αργυρούπολης σας προσκαλούν στην εκδήλωση μνήμης που συνδιοργανώνουν για να τιμήσουν την 76η επέτειο της μάχης της Κρήτης.
«καμιά αξία η ζωή δίχως ελευθερία ...»

Παρασκευή 26 Μαΐου 2017 ώρα 20:00 Δημοτικό θέατρο άλσους Ηλιούπολης «Δημήτρης Κιντής»
Η παρουσία σας θα μας τιμήσει ιδιαιτέρως

Σύλλογοι Κρητών Ηλιούπολης - Αργυρούπολης 
LOCATION:
END:VEVENT

END:VCALENDAR
